BEGIN:VCALENDAR
VERSION:2.0
PRODID:-//wp-events-plugin.com//7.2.3.1//EN
BEGIN:VEVENT
UID:51@thefablads.net
DTSTART:20261107T200000Z
DTEND:20261107T220000Z
DTSTAMP:20250915T210707Z
URL:https://thefablads.net/index.php/events/the-fab-lads-now-and-then-the-
 complete-beatles-experience/
SUMMARY:The Fab Lads Now and Then: The Complete Beatles Experience
DESCRIPTION:
LOCATION:The Mill\, 1311 20th Street \, Granite City\, Illinois\, 62040\, U
 nited States
GEO:38.702107;-90.149278
X-APPLE-STRUCTURED-LOCATION;VALUE=URI;X-ADDRESS=1311 20th Street \, Granite
  City\, Illinois\, 62040\, United States;X-APPLE-RADIUS=100;X-TITLE=The Mi
 ll:geo:38.702107,-90.149278
END:VEVENT
END:VCALENDAR