BEGIN:VCALENDAR
VERSION:2.0
PRODID:-//wp-events-plugin.com//7.2.3.1//EN
BEGIN:VEVENT
UID:47@thefablads.net
DTSTART;VALUE=DATE:20260912
DTEND;VALUE=DATE:20260913
DTSTAMP:20250427T190138Z
URL:https://thefablads.net/index.php/events/the-fab-lads-live-at-the-when-
 im-64-beatles-fest/
SUMMARY:The Fab Lads Live at the When I'm 64 Beatles Fest
DESCRIPTION:
LOCATION:Prairietown Firemen's Park\, 8452 Prairietown Road\, Worden\, IL\,
  62097\, United States
GEO:38.965464;-89.921133
X-APPLE-STRUCTURED-LOCATION;VALUE=URI;X-ADDRESS=8452 Prairietown Road\, Wor
 den\, IL\, 62097\, United States;X-APPLE-RADIUS=100;X-TITLE=Prairietown Fi
 remen's Park:geo:38.965464,-89.921133
END:VEVENT
END:VCALENDAR