BEGIN:VCALENDAR
VERSION:2.0
PRODID:-//wp-events-plugin.com//7.2.3.1//EN
BEGIN:VEVENT
UID:45@thefablads.net
DTSTART:20251206T190000Z
DTEND:20251206T190000Z
DTSTAMP:20250322T145905Z
URL:https://thefablads.net/index.php/events/led-zeppelin-meets-the-beatles
 -tribute-show/
SUMMARY:Led Zeppelin Meets The Beatles Tribute Show
DESCRIPTION:Starring:\n\nThe Fab Lads as The Beatles\n\nTangerine as Led Ze
 ppelin
LOCATION:Rickman Auditorium\, 747 Jeffco Blvd.\, Arnold\, Missouri\, 63010\
 , United States
GEO:38.448836;-90.370495
X-APPLE-STRUCTURED-LOCATION;VALUE=URI;X-ADDRESS=747 Jeffco Blvd.\, Arnold\,
  Missouri\, 63010\, United States;X-APPLE-RADIUS=100;X-TITLE=Rickman Audit
 orium:geo:38.448836,-90.370495
END:VEVENT
END:VCALENDAR