BEGIN:VCALENDAR
VERSION:2.0
PRODID:-//wp-events-plugin.com//7.2.3.1//EN
BEGIN:VEVENT
UID:54@thefablads.net
DTSTART:20260926T190000Z
DTEND:20260926T190000Z
DTSTAMP:20260122T002815Z
URL:https://thefablads.net/index.php/events/elvis-meets-the-beatles-w-spec
 ial-guest-tribute-to-patsy-cline/
SUMMARY:ELVIS MEETS THE BEATLES w/special guest tribute to Patsy Cline
DESCRIPTION:Everett Dean as Elvis Presley\n\nThe Fab Lads as The Beatles\n\
 nDawn Turlington as Patsy Cline
LOCATION:First State Community Center\, 2 Black Knight Drive\, Farmington\,
  MO\, 63640\, United States
GEO:37.779091;-90.435793
X-APPLE-STRUCTURED-LOCATION;VALUE=URI;X-ADDRESS=2 Black Knight Drive\, Farm
 ington\, MO\, 63640\, United States;X-APPLE-RADIUS=100;X-TITLE=First State
  Community Center:geo:37.779091,-90.435793
END:VEVENT
END:VCALENDAR