BEGIN:VCALENDAR
VERSION:2.0
PRODID:-//wp-events-plugin.com//7.2.3.1//EN
BEGIN:VEVENT
UID:39@thefablads.net
DTSTART:20250223T160000Z
DTEND:20250223T180000Z
DTSTAMP:20241207T182250Z
URL:https://thefablads.net/index.php/events/elvis-meets-the-beatles-w-spec
 ial-guest-alan-jackson-tribute-at-54-country/
SUMMARY:Elvis Meets The Beatles w/special guest Alan Jackson Tribute at 54 
 Country
DESCRIPTION:For Tickets Click The Link: Elvis Meets The Beatles Tribute Sho
 w w/ special guest Alan Jackson Tribute Tickets\, Sun\, Feb 23\, 2025 at 4
 :00 PM | Eventbrite
LOCATION:54 Country\, 5912 U.S. Hwy 40\, KIngdom City\, MO\, 65262\, United
  States
GEO:38.947073;-91.927731
X-APPLE-STRUCTURED-LOCATION;VALUE=URI;X-ADDRESS=5912 U.S. Hwy 40\, KIngdom 
 City\, MO\, 65262\, United States;X-APPLE-RADIUS=100;X-TITLE=54 Country:ge
 o:38.947073,-91.927731
END:VEVENT
END:VCALENDAR