BEGIN:VCALENDAR
VERSION:2.0
PRODID:-//wp-events-plugin.com//7.2.3.1//EN
BEGIN:VEVENT
UID:53@thefablads.net
DTSTART:20261114T190000Z
DTEND:20261114T190000Z
DTSTAMP:20251203T023205Z
URL:https://thefablads.net/index.php/events/elvis-meets-the-beatles-live-a
 t-the-perry-park-center/
SUMMARY:Elvis Meets The Beatles Live at the Perry Park Center
DESCRIPTION:
END:VEVENT
END:VCALENDAR