BEGIN:VCALENDAR
VERSION:2.0
PRODID:-//wp-events-plugin.com//7.2.3.1//EN
BEGIN:VEVENT
UID:46@thefablads.net
DTSTART:20260117T190000Z
DTEND:20260117T190000Z
DTSTAMP:20250408T150018Z
URL:https://thefablads.net/index.php/events/elvis-meets-the-beatles-live-a
 t-the-florissant-performing-arts-center/
SUMMARY:Elvis Meets The Beatles Live at the Florissant Performing Arts Cent
 er
DESCRIPTION:
LOCATION:Florissant Performing Arts Center\, 1 James J. Eagan Dr.\, Floriss
 ant\, MO\, 63033\, United States
GEO:38.794444;-90.29875
X-APPLE-STRUCTURED-LOCATION;VALUE=URI;X-ADDRESS=1 James J. Eagan Dr.\, Flor
 issant\, MO\, 63033\, United States;X-APPLE-RADIUS=100;X-TITLE=Florissant 
 Performing Arts Center:geo:38.794444,-90.29875
END:VEVENT
END:VCALENDAR