BEGIN:VCALENDAR
VERSION:2.0
PRODID:-//wp-events-plugin.com//7.2.3.1//EN
BEGIN:VEVENT
UID:43@thefablads.net
DTSTART:20251101T190000Z
DTEND:20251101T210000Z
DTSTAMP:20250122T034116Z
URL:https://thefablads.net/index.php/events/elvis-meets-the-beatles-live-a
 t-the-boot-city-opry/
SUMMARY:Elvis Meets The Beatles Live at the Boot City Opry
DESCRIPTION:
LOCATION:The Boot City Opry\, 11904 S US Hwy 41\, Terre Haute\, IN\, 47802\
 , United States
GEO:39.322188;-87.387311
X-APPLE-STRUCTURED-LOCATION;VALUE=URI;X-ADDRESS=11904 S US Hwy 41\, Terre H
 aute\, IN\, 47802\, United States;X-APPLE-RADIUS=100;X-TITLE=The Boot City
  Opry:geo:39.322188,-87.387311
END:VEVENT
END:VCALENDAR